BEGIN:VCALENDAR
VERSION:2.0
PRODID:-//wp-events-plugin.com//7.2.3.1//EN
BEGIN:VEVENT
UID:63@walterswil-be.ch
DTSTART:20260618T183000Z
DTEND:20260618T203000Z
DTSTAMP:20251106T162706Z
URL:https://walterswil-be.ch/Anlaesse/blutspenden/
SUMMARY:Blutspende
DESCRIPTION:Samariterverein Walterswil
CATEGORIES:Anlässe Mehrzweckgebäude
END:VEVENT
END:VCALENDAR