BEGIN:VCALENDAR
VERSION:2.0
PRODID:-//wp-events-plugin.com//7.2.3.1//EN
BEGIN:VEVENT
UID:39@walterswil-be.ch
DTSTART:20250208T200000Z
DTEND:20250208T234500Z
DTSTAMP:20250123T140927Z
URL:https://walterswil-be.ch/Anlaesse/hornusser-lotto/
SUMMARY:Hornusser-Lotto
DESCRIPTION:Organisiert durch die Hornussergesellschaft Schmidigen.
CATEGORIES:Anlässe Mehrzweckgebäude
LOCATION:Mehrzweckgebäude Walterswil\, Dorf 74L\, 4942 Walterswil\, Schwei
 z
X-APPLE-STRUCTURED-LOCATION;VALUE=URI;X-ADDRESS=Dorf 74L\, 4942 Walterswil\
 , Schweiz;X-APPLE-RADIUS=100;X-TITLE=Mehrzweckgebäude Walterswil:geo:0,0
END:VEVENT
END:VCALENDAR