BEGIN:VCALENDAR
VERSION:2.0
PRODID:-//wp-events-plugin.com//7.2.3.1//EN
BEGIN:VEVENT
UID:44@walterswil-be.ch
DTSTART:20251004T210000Z
DTEND:20251005T030000Z
DTSTAMP:20250404T070630Z
URL:https://walterswil-be.ch/Anlaesse/pistengaudi/
SUMMARY:Pistengaudi
DESCRIPTION:
CATEGORIES:Anlässe Mehrzweckgebäude
LOCATION:Mehrzweckgebäude Walterswil\, Dorf 74L\, 4942 Walterswil\, Schwei
 z
X-APPLE-STRUCTURED-LOCATION;VALUE=URI;X-ADDRESS=Dorf 74L\, 4942 Walterswil\
 , Schweiz;X-APPLE-RADIUS=100;X-TITLE=Mehrzweckgebäude Walterswil:geo:0,0
END:VEVENT
END:VCALENDAR