BEGIN:VCALENDAR
VERSION:2.0
PRODID:-//wp-events-plugin.com//7.2.3.1//EN
BEGIN:VEVENT
UID:67@walterswil-be.ch
DTSTART:20261111T193000Z
DTEND:20261111T220000Z
DTSTAMP:20260302T120658Z
URL:https://walterswil-be.ch/Anlaesse/seniorenrat-herbstanlass-2026/
SUMMARY:Seniorenrat - Herbstanlass 2026
DESCRIPTION:
LOCATION:Hirten-Saal\, -\, 4950 Huttwil\, Schweiz
X-APPLE-STRUCTURED-LOCATION;VALUE=URI;X-ADDRESS=-\, 4950 Huttwil\, Schweiz;
 X-APPLE-RADIUS=100;X-TITLE=Hirten-Saal:geo:0,0
END:VEVENT
END:VCALENDAR